BEGIN:VCALENDAR
VERSION:2.0
PRODID:-//Obst- und Gartenbauverein Ruit e.V. - ECPv6.15.20//NONSGML v1.0//EN
CALSCALE:GREGORIAN
METHOD:PUBLISH
X-ORIGINAL-URL:https://www.ogvruit.de
X-WR-CALDESC:Veranstaltungen für Obst- und Gartenbauverein Ruit e.V.
REFRESH-INTERVAL;VALUE=DURATION:PT1H
X-Robots-Tag:noindex
X-PUBLISHED-TTL:PT1H
BEGIN:VTIMEZONE
TZID:Europe/Berlin
BEGIN:DAYLIGHT
TZOFFSETFROM:+0100
TZOFFSETTO:+0200
TZNAME:CEST
DTSTART:20250330T010000
END:DAYLIGHT
BEGIN:STANDARD
TZOFFSETFROM:+0200
TZOFFSETTO:+0100
TZNAME:CET
DTSTART:20251026T010000
END:STANDARD
BEGIN:DAYLIGHT
TZOFFSETFROM:+0100
TZOFFSETTO:+0200
TZNAME:CEST
DTSTART:20260329T010000
END:DAYLIGHT
BEGIN:STANDARD
TZOFFSETFROM:+0200
TZOFFSETTO:+0100
TZNAME:CET
DTSTART:20261025T010000
END:STANDARD
BEGIN:DAYLIGHT
TZOFFSETFROM:+0100
TZOFFSETTO:+0200
TZNAME:CEST
DTSTART:20270328T010000
END:DAYLIGHT
BEGIN:STANDARD
TZOFFSETFROM:+0200
TZOFFSETTO:+0100
TZNAME:CET
DTSTART:20271031T010000
END:STANDARD
END:VTIMEZONE
BEGIN:VEVENT
DTSTART;TZID=Europe/Berlin:20260213T153000
DTEND;TZID=Europe/Berlin:20260213T190000
DTSTAMP:20260424T103418
CREATED:20260104T111908Z
LAST-MODIFIED:20260104T111908Z
UID:1844-1770996600-1771009200@www.ogvruit.de
SUMMARY:Winterkaffee und Jahreshauptversammlung
DESCRIPTION:Am Freitag\, dem 13. Februar 2026\, laden wir wieder alle unsere Mitglieder zum Kaffeetrinken in den Treffpunkt im Gradmannhaus ein. Unsere Ausschuss-Mitglieder bewirten Sie wie immer kostenlos mit Kaffee und Kuchen. Beginn ist um 15 Uhr. \nGegen 15.30 Uhr gibt es einen Vortrag von Jens Häussler zum Thema „Misteln – Mythos und Wahrheit“ \nGegen 17.30 Uhr findet dann unsere jährliche Mitgliederversammlung statt. \nHierzu wurde gesondert eingeladen. \n 
URL:https://www.ogvruit.de/veranstaltungen/winterkaffee-und-jahreshauptversammlung-5/
END:VEVENT
BEGIN:VEVENT
DTSTART;TZID=Europe/Berlin:20260228T140000
DTEND;TZID=Europe/Berlin:20260228T160000
DTSTAMP:20260424T103418
CREATED:20260216T150056Z
LAST-MODIFIED:20260216T151358Z
UID:1852-1772287200-1772294400@www.ogvruit.de
SUMMARY:Rosenschnittkurs mit Eberhard Jung
DESCRIPTION:Am Samstag\, dem 28. Februar\, Beginn 14 Uhr\, laden wir zu unserem diesjährigen Rosenschnittkurs ein. \nInstruktor ist Eberhard Jung\, der als bekannter Spezialist für Rosen uns wieder mit seinem Fachwisssen und launigen Tipps begeistern wird. \nDer Kurs findet im Garten unseres 2. Vorstands Harald Eggert in der Horbstraße 23 in Ruit statt.
URL:https://www.ogvruit.de/veranstaltungen/rosenschnittkurs-mit-eberhard-jung/
END:VEVENT
END:VCALENDAR