BEGIN:VCALENDAR
VERSION:2.0
PRODID:-//Obst- und Gartenbauverein Ruit e.V. - ECPv6.15.20//NONSGML v1.0//EN
CALSCALE:GREGORIAN
METHOD:PUBLISH
X-ORIGINAL-URL:https://www.ogvruit.de
X-WR-CALDESC:Veranstaltungen für Obst- und Gartenbauverein Ruit e.V.
REFRESH-INTERVAL;VALUE=DURATION:PT1H
X-Robots-Tag:noindex
X-PUBLISHED-TTL:PT1H
BEGIN:VTIMEZONE
TZID:Europe/Berlin
BEGIN:DAYLIGHT
TZOFFSETFROM:+0100
TZOFFSETTO:+0200
TZNAME:CEST
DTSTART:20250330T010000
END:DAYLIGHT
BEGIN:STANDARD
TZOFFSETFROM:+0200
TZOFFSETTO:+0100
TZNAME:CET
DTSTART:20251026T010000
END:STANDARD
BEGIN:DAYLIGHT
TZOFFSETFROM:+0100
TZOFFSETTO:+0200
TZNAME:CEST
DTSTART:20260329T010000
END:DAYLIGHT
BEGIN:STANDARD
TZOFFSETFROM:+0200
TZOFFSETTO:+0100
TZNAME:CET
DTSTART:20261025T010000
END:STANDARD
BEGIN:DAYLIGHT
TZOFFSETFROM:+0100
TZOFFSETTO:+0200
TZNAME:CEST
DTSTART:20270328T010000
END:DAYLIGHT
BEGIN:STANDARD
TZOFFSETFROM:+0200
TZOFFSETTO:+0100
TZNAME:CET
DTSTART:20271031T010000
END:STANDARD
END:VTIMEZONE
BEGIN:VEVENT
DTSTART;TZID=Europe/Berlin:20260131T140000
DTEND;TZID=Europe/Berlin:20260131T160000
DTSTAMP:20260422T112930
CREATED:20260104T111304Z
LAST-MODIFIED:20260104T111304Z
UID:1842-1769868000-1769875200@www.ogvruit.de
SUMMARY:Schnittkurs mit Dirk Lautenschlager
DESCRIPTION:Unsere erste Schnittunterweisung 2026 findet auf der Baumwiese beim Scharnhäuser Park gegenüber der Gärtnerei Hägele statt. \nDirk Lautenschlager zeigt\, wie man lange nicht geschnittene Bäume wieder in Form bringt.
URL:https://www.ogvruit.de/veranstaltungen/schnittkurs-mit-dirk-lautenschlager/
END:VEVENT
END:VCALENDAR